BEGIN:VCALENDAR
VERSION:2.0
CALSCALE:GREGORIAN
PRODID:adamgibbons/ics
METHOD:PUBLISH
X-PUBLISHED-TTL:PT1H
BEGIN:VEVENT
UID:5814@lapunta.org
SUMMARY:Concerto against alla cages
DTSTAMP:20260423T234851Z
DTSTART:20260228T203000Z
DTEND:20260301T013000Z
DESCRIPTION:Il 4 marzo 2023 un corteo deciso ha segnato le strade di Torino
	 in solidarietà\nad Alfredo Cospito in sciopero della fame contro 41 bis e
	d ergastolo ostativo\,\normai da 5 mesi.\n\nPer quel corteo\, 19 compagnx 
	colpiti dall’Operazione City\, sono accusatx di\ndevastazione e saccheggio
	 ed il processo è in corso.\n\nQuel 4 marzo c'eravamo tutte e tutti\n\nSol
	idarietà agli imputatx\n\nFuori Alfredo dal 41 bis\n\n
URL:https://lapunta.org/event/concerto-against-alla-cages
LOCATION:Ex-Caserma Occupata - via Adriana 16\, Livorno
STATUS:CONFIRMED
CATEGORIES:Anticarceraria,Ex caserma occupata,No 41 bis,Operazione city
X-ALT-DESC;FMTTYPE=text/html:<p>Il 4 marzo 2023 un corteo deciso ha segnato
	 le strade di Torino in solidarietà ad Alfredo Cospito in sciopero della f
	ame contro 41 bis ed ergastolo ostativo, ormai da 5 mesi.<br><br>Per quel 
	corteo, 19 compagnx colpiti dall’Operazione City, sono accusatx di devasta
	zione e saccheggio ed il processo è in corso. </p><p>Quel 4 marzo c'eravam
	o tutte e tutti</p><p>Solidarietà agli imputatx</p><p>Fuori Alfredo dal 41
	 bis</p><p></p>
END:VEVENT
END:VCALENDAR
